BEGIN:VCALENDAR
VERSION:2.0
CALSCALE:GREGORIAN
METHOD:PUBLISH
PRODID://CWSP//516749
BEGIN:VEVENT
DTSTAMP:20260422T075805
VTIMEZONE:America/New_York
DTSTART:20260520T170000Z
DTEND:20260520T183000Z
UID:516749
SUMMARY:Webcast 4. Urban Watershed Equity: Designing Inclusive and Just Stormwater Solutions
LOCATION:Online via Zoom
DESCRIPTION:Webcast 4. Urban Watershed Equity: Designing Inclusive and Just Stormwater Solutions\n\n05/20/26 01:00 PM EST\n - 05/20/26 02:30 PM EST\Description:\nSpeakers:\n\nKatherine Grantham, Southeast Michigan Council of Governments\nImplementing nature-based solutions, like green infrastructure, has become a popular method for building community resilience to climate change through a triple bottom line approach. Opportunities for green infrastructure implementation in underserved communities, however, are more limited and challenging. During this webcast, Katie Grantham, Planner with the Southeast Michigan Council of Governments, will discuss lessons learned from past projects working with environmental justice communities, what communities need to successfully implement green infrastructure, and how their upcoming work will better prepare communities to more equitably build resilience.\n\nMaxwell Dugan, Geosyntec\nAs a key foundation of our nationwide stormwater practice, Geosyntec practitioners recognize the need and opportunity to integrate environmental justice and community engagement into watershed planning efforts. This portion of the webinar will feature two examples of this work from urban watersheds in Los Angeles, CA and St. Louis MO. Together, these projects embody the national movement to reimagine America’s infrastructure, transforming aging systems into multifunctional landscapes that advance sustainability, social equity, and long-term adaptability.\nPart 1: Reimagining the LA River\nThe LA River Master Plan and Sepulveda Basin Vision Plan represent a paradigm shift in infrastructure planning, integrating flood control with ecological restoration and inclusive public spaces. These initiatives champion climate resilience through nature-based solutions that help mitigate extreme weather impacts, restore habitats, and enhance water quality. Equally important, they prioritize community engagement—helping ensure that historically underserved neighborhoods have a voice in shaping equitable access to green spaces and recreational opportunities.\nPart 2: Advancing Urban Flood Resilience: A Justice-Centered Strategy for Nature-Based Solutions and Green Stormwater Infrastructure\nIn response to the historic flooding of July 2022, the City of St. Louis initiated a citywide strategy to mitigate flood risk through nature-based solutions and green stormwater infrastructure. This presentation will highlight the City’s vision of reimagining its relationship with waterways by creating sustainable solutions that protect the environment, strengthen communities, and build long-term resilience for future generations. At the core of this strategy is the integration of environmental and economic justice principles, enabling vulnerable communities to benefit from resilient and equitable outcomes.\n \n\Location:\nOnline via Zoom\n\n,
X-ALT-DESC;FMTTYPE=text/html:Webcast 4. Urban Watershed Equity: Designing Inclusive and Just Stormwater Solutions<br /><br />05/20/26 01:00 PM EST - 05/20/26 02:30 PM EST<br />Description:<br /><p>Speakers:</p>

<p class="elementtoproof" style="background:white">Katherine Grantham, Southeast Michigan Council of Governments<br />
Implementing nature-based solutions, like green infrastructure, has become a popular method for building community resilience to climate change through a triple bottom line approach. Opportunities for green infrastructure implementation in underserved communities, however, are more limited and challenging. During this webcast, Katie Grantham, Planner with the Southeast Michigan Council of Governments, will discuss lessons learned from past projects working with environmental justice communities, what communities need to successfully implement green infrastructure, and how their upcoming work will better prepare communities to more equitably build resilience.<br />
<br />
Maxwell Dugan, Geosyntec<br />
As a key foundation of our nationwide stormwater practice, Geosyntec practitioners recognize the need and opportunity to integrate environmental justice and community engagement into watershed planning efforts. This portion of the webinar will feature two examples of this work from urban watersheds in Los Angeles, CA and St. Louis MO. Together, these projects embody the national movement to reimagine America&rsquo;s infrastructure, transforming aging systems into multifunctional landscapes that advance sustainability, social equity, and long-term adaptability.<br />
<strong>Part 1: Reimagining the LA River</strong><br />
The LA River Master Plan and Sepulveda Basin Vision Plan represent a paradigm shift in infrastructure planning, integrating flood control with ecological restoration and inclusive public spaces. These initiatives champion climate resilience through nature-based solutions that help mitigate extreme weather impacts, restore habitats, and enhance water quality. Equally important, they prioritize community engagement&mdash;helping ensure that historically underserved neighborhoods have a voice in shaping equitable access to green spaces and recreational opportunities.<br />
<strong>Part 2: Advancing Urban Flood Resilience: A Justice-Centered Strategy for Nature-Based Solutions and Green Stormwater Infrastructure</strong><br />
In response to the historic flooding of July 2022, the City of St. Louis initiated a citywide strategy to mitigate flood risk through nature-based solutions and green stormwater infrastructure. This presentation will highlight the City&rsquo;s vision of reimagining its relationship with waterways by creating sustainable solutions that protect the environment, strengthen communities, and build long-term resilience for future generations. At the core of this strategy is the integration of environmental and economic justice principles, enabling vulnerable communities to benefit from resilient and equitable outcomes.<br />
&nbsp;</p>
<br />Location:<br />Online via Zoom<br /><br />,  
PRIORITY:3
TRANSP:TRANSPARENT
BEGIN:VALARM
TRIGGER:-PT5M
ACTION:DISPLAY
DESCRIPTION:Reminder
END:VALARM
END:VEVENT
END:VCALENDAR
